BEGIN:VCALENDAR
VERSION:2.0
PRODID:-//hacksw/handcal//NONSGML v1.0//EN
BEGIN:VEVENT
SUMMARY:Reunion Bureau USL
UID:2daa9973-ed32-4272-825e-9e9ed0a3b15a
DTSTART:20251216T183000Z
DTEND:20251216T210000Z
LOCATION:Stade Philippe Porcher Allee Robert Cheval 44980 Sainte Luce sur Loire
CATEGORIES:Administratif
STATUS:
URL;VALUE=URI:https://www.sainte-luce-foot.com/evenements/2025/12/16/reunion-bureau-usl-2432455
END:VEVENT
END:VCALENDAR
